BEGIN:VCALENDAR
BEGIN:VEVENT
SUMMARY:Experimentas | experimental ambient: Xxhe\, mot.physics\, gabeXsca
 pe\, CMD+JAZMINE [nycnoise]
DTSTART:20251012T230000Z
DTEND:20251013T000000Z
UID:eb7f340b-6083-42fd-b6dd-3f272d0e62c9
CREATED:20260420T145140Z
DESCRIPTION:
LOCATION:living gallery (1094 broadway\, brooklyn)
END:VEVENT
END:VCALENDAR
