BEGIN:VCALENDAR
BEGIN:VEVENT
SUMMARY:Sam Friedman: Waterfront (w/ Luis McDougal\, Grace Pressley\, Ryan
  Ghassemi\, Tommy Shermulis) [nycnoise]
DTSTART:20251010T233000Z
DTEND:20251011T003000Z
UID:f0487b01-77f6-42e4-9bc2-d4dddb9b4f68
CREATED:20260420T144957Z
DESCRIPTION:7pm doors
LOCATION:stone circle at ridgewood presby (59-14 70th ave\, ridgewood)
END:VEVENT
END:VCALENDAR
