BEGIN:VCALENDAR
BEGIN:VEVENT
SUMMARY:Stranger\, Neighbor\, Enemy\, Best Friend: Steffani Jemison [nycno
 ise]
DTSTART:20251111T230000Z
DTEND:20251112T000000Z
UID:9601db78-84bf-40ba-8403-f47529977575
CREATED:20260425T203803Z
DESCRIPTION:
LOCATION:cthq (59 E 4th St floor 7\, New York\, NY 10003)
END:VEVENT
END:VCALENDAR
