BEGIN:VCALENDAR
BEGIN:VEVENT
SUMMARY:Krissy Bergmark / Melissa Almaguer / Samantha Kochis\, Sam Newsome
  / Eli Wallace / Drew Wesely\, Kevin Eichenberger [nycnoise]
DTSTART:20251023T233000Z
DTEND:20251024T003000Z
UID:93de995a-336b-43e7-9ac9-c3ac330292f7
CREATED:20260420T145147Z
DESCRIPTION:
LOCATION:record shop (360 van brunt st.\, brooklyn)
END:VEVENT
END:VCALENDAR
