BEGIN:VCALENDAR
BEGIN:VEVENT
SUMMARY:The Sound of Reconstruction (T.S.O.R.): 1Alkebulan\, Key Hutch\, N
 akama.\, Alfredo Colón\, Atlas B Complex [nycnoise]
DTSTART:20251013T230000Z
DTEND:20251014T000000Z
UID:227ef2e6-8a4d-42b1-b143-38629bcf7621
CREATED:20260420T145343Z
DESCRIPTION:
LOCATION:trans-pecos (9-15 wyckoff ave\, ridgewood)
END:VEVENT
END:VCALENDAR
