BEGIN:VCALENDAR
BEGIN:VEVENT
SUMMARY:Montez Press Radio presents: Chanel Beads\, Voyeur\, Car Culture (
 DJ) [nycnoise]
DTSTART:20250930T230000Z
DTEND:20251001T000000Z
UID:d9d9deeb-ba6a-489a-95ac-d4892ddd9203
CREATED:20260420T163343Z
DESCRIPTION:fundraiser for the Sameer Project
LOCATION:intercomm (584 Woodward Ave\, Ridgewood\, NY 11385)
END:VEVENT
END:VCALENDAR
