BEGIN:VCALENDAR
BEGIN:VEVENT
SUMMARY:PANS\, Tommy Martinez [nycnoise]
DTSTART:20251012T000000Z
DTEND:20251012T010000Z
UID:8990485c-b4c5-4593-8f63-a3e66dafbd42
CREATED:20260420T145255Z
DESCRIPTION:full lineup insta
LOCATION:cutelab
END:VEVENT
END:VCALENDAR
