BEGIN:VCALENDAR
BEGIN:VEVENT
SUMMARY:Elijah Shiffer's City of Birds (Album Release)\, Jack Doe\, Dumete
 lla (Matt Chilton\, Shiffer\, Fung Chern Hwei\, Kevin Shea) [nycnoise]
DTSTART:20251018T000000Z
DTEND:20251018T010000Z
UID:692141cc-c1cc-4935-a9d6-96ed875e8e8c
CREATED:20260420T145422Z
DESCRIPTION:lineup on insta
LOCATION:cutelab
END:VEVENT
END:VCALENDAR
