BEGIN:VCALENDAR
BEGIN:VEVENT
SUMMARY:DMG Free Tues x Relative Pitch presents: Two Trios & a Quartet: Ch
 uck Roth / Camille Dietrich / Kate Mohanty / Jennifer Gersten [nycnoise]
DTSTART:20251021T223000Z
DTEND:20251021T233000Z
UID:f20ce1b1-b940-4864-b991-ac64829c0a88
CREATED:20260420T145355Z
DESCRIPTION:
LOCATION:downtown music gallery (13 monroe st.\, manhattan)
END:VEVENT
END:VCALENDAR
