BEGIN:VCALENDAR
BEGIN:VEVENT
SUMMARY:DMG Free Tues x Relative Pitch presents: Duos & Trio: Chuck Roth\,
  Ana Luis de Cossio\, Anna Abondolo [nycnoise]
DTSTART:20251118T233000Z
DTEND:20251119T003000Z
UID:ec199791-0337-4420-80f6-5003a4a73697
CREATED:20260425T203657Z
DESCRIPTION:
LOCATION:downtown music gallery (13 monroe st.\, manhattan)
END:VEVENT
END:VCALENDAR
