BEGIN:VCALENDAR
BEGIN:VEVENT
SUMMARY:DMG Free Tues: Nick Neuberg\, Chris Gruda / James McKain / Evan Pa
 lmer\, Giacomo Merega & Harvey Valdes [nycnoise]
DTSTART:20251125T233000Z
DTEND:20251126T003000Z
UID:01189861-bf8c-4396-b61f-742a1be8fd5a
CREATED:20260425T204013Z
DESCRIPTION:
LOCATION:downtown music gallery (13 monroe st.\, manhattan)
END:VEVENT
END:VCALENDAR
