BEGIN:VCALENDAR
BEGIN:VEVENT
SUMMARY:DMG Free Tues: Evan Palmer / Stephen Gauci / James Paul Nadien\, J
 onathan Resin / Melissa Almaguer / Chen Har Even\, Colin Hinton / Todd Neu
 feld / Shawn Lovato [nycnoise]
DTSTART:20251202T233000Z
DTEND:20251203T003000Z
UID:5265a347-d3cc-4e67-ae24-ab95acaeeb3d
CREATED:20260425T183939Z
DESCRIPTION:
LOCATION:downtown music gallery (13 monroe st.\, manhattan)
END:VEVENT
END:VCALENDAR
