BEGIN:VCALENDAR
BEGIN:VEVENT
SUMMARY:Transparency Series: patrick brennan's transparency kestra [nycnoi
 se]
DTSTART:20251118T230000Z
DTEND:20251119T000000Z
UID:23436691-82bd-452a-b674-5922cc2bc225
CREATED:20260425T203631Z
DESCRIPTION:6pm open rehearsal\, 8:30pm performance
LOCATION:intercomm (584 Woodward Ave\, Ridgewood\, NY 11385)
END:VEVENT
END:VCALENDAR
