BEGIN:VCALENDAR
BEGIN:VEVENT
SUMMARY:Alice Cohen (Record Release)\, Billy G. Robinson\, Invisible Sciss
 ors\, Houndsteeth\, & more [nycnoise]
DTSTART:20251012T000000Z
DTEND:20251012T010000Z
UID:90625b23-198c-4d1f-bcc8-338102507102
CREATED:20260420T145327Z
DESCRIPTION:
LOCATION:life world (563 Johnson Ave\, Brooklyn\, NY 11237)
END:VEVENT
END:VCALENDAR
