BEGIN:VCALENDAR
BEGIN:VEVENT
SUMMARY:One Beautiful Night [nycnoise]
DTSTART:20251026T010000Z
DTEND:20251026T020000Z
UID:a6221215-5c91-49c5-8190-25ed3e8f4e54
CREATED:20260420T145358Z
DESCRIPTION:...of comedy\, whoops\; but musical guest Lila Bloom
LOCATION:life world (563 Johnson Ave\, Brooklyn\, NY 11237)
END:VEVENT
END:VCALENDAR
