BEGIN:VCALENDAR
BEGIN:VEVENT
SUMMARY:Laminaria: a folk horror chamber music suite [nycnoise]
DTSTART:20251025T200000Z
DTEND:20251025T210000Z
UID:e9b55ee8-f8ea-4061-a1ae-028765ae42c2
CREATED:20260420T145420Z
DESCRIPTION:4pm tix / 8pm tix
LOCATION:footlight at windjammer (552 grandview ave\, ridgewood)
END:VEVENT
END:VCALENDAR
