BEGIN:VCALENDAR
BEGIN:VEVENT
SUMMARY:Sugar Vendil: Antonym\, Day #2/2 [nycnoise]
DTSTART:20251116T193000Z
DTEND:20251116T203000Z
UID:fc093c74-1ba7-4f44-a5af-97cdced33f3e
CREATED:20260425T203609Z
DESCRIPTION:
LOCATION:jack (18 putnam ave\, brooklyn)
END:VEVENT
END:VCALENDAR
