BEGIN:VCALENDAR
BEGIN:VEVENT
SUMMARY:Michaël Attias / Ingrid Laubrock / Shawn Lovato / Tom Rainey [nyc
 noise]
DTSTART:20251015T000000Z
DTEND:20251015T010000Z
UID:8eedb2c4-f088-4df5-9bd2-0946e0d645f8
CREATED:20260420T145250Z
DESCRIPTION:
LOCATION:lowlands (543 3rd ave\, brooklyn)
END:VEVENT
END:VCALENDAR
