BEGIN:VCALENDAR
BEGIN:VEVENT
SUMMARY:Dan Weiss Trio [nycnoise]
DTSTART:20251015T010000Z
DTEND:20251015T020000Z
UID:7019b1c7-d829-4f25-b961-51afdf759e3b
CREATED:20260420T145159Z
DESCRIPTION:
LOCATION:lunàtico (486 halsey st.\, brooklyn)
END:VEVENT
END:VCALENDAR
