BEGIN:VCALENDAR
BEGIN:VEVENT
SUMMARY:Vaginal Davis: Magnificent Product: The Voluptuous Horror of Karen
  Black [nycnoise]
DTSTART:20251011T200000Z
DTEND:20251011T210000Z
UID:c57e70cf-7f0f-4894-9765-1f3a722d4278
CREATED:20260420T145204Z
DESCRIPTION:
LOCATION:moma ps1 (22-25 jackson ave\, long island city)
END:VEVENT
END:VCALENDAR
