BEGIN:VCALENDAR
BEGIN:VEVENT
SUMMARY:Open Performance: Chris Cahoon\, Loren Groenendaal & Melinda Faylo
 r\, Gabriel Bruno Eng Gonzalez [nycnoise]
DTSTART:20251007T230000Z
DTEND:20251008T000000Z
UID:d79c9348-5df0-4473-a10b-ced40e0a686c
CREATED:20260420T145551Z
DESCRIPTION:
LOCATION:movement research at the bob (150 1st Ave\, New York\, NY 10009)
END:VEVENT
END:VCALENDAR
