BEGIN:VCALENDAR
BEGIN:VEVENT
SUMMARY:Movement Research: Aleeza Garcia\, James Barrett\, Jerron Herman\,
  Rochelle Jamila [nycnoise]
DTSTART:20251027T230000Z
DTEND:20251028T000000Z
UID:921cce0f-1c31-4597-8eca-6512251fc041
CREATED:20260420T145140Z
DESCRIPTION:"event includes auditive guidance"
LOCATION:movement research at judson (55 washington sq south\, manhattan)
END:VEVENT
END:VCALENDAR
