BEGIN:VCALENDAR
BEGIN:VEVENT
SUMMARY:Audiofemme Presents: The Hum [nycnoise]
DTSTART:20251017T230000Z
DTEND:20251018T000000Z
UID:64f24956-e7e4-4657-a968-330feee98d80
CREATED:20260420T145211Z
DESCRIPTION:Switch Hit Choir (Starr Busby\, Erika Dohi\, Lollise\, Arthur 
 Moon\, Jae Soto\, Raia Was)\; Mafer Bandola\, Daisy Castro\, Nicole Odrema
 n\, Elenna Canlas\, Pauline Roberts\; Mal Devisa\, Kalyani Rayne\, Maddy\;
  Elysse\, Synead\, Cassie Watson Francillon\, Latoya Renea\, Nineesha
LOCATION:national sawdust (80 n. 6th st.\, brooklyn)
END:VEVENT
END:VCALENDAR
