BEGIN:VCALENDAR
BEGIN:VEVENT
SUMMARY:Wildebeest Woodwind Quintet [nycnoise]
DTSTART:20251005T220000Z
DTEND:20251005T230000Z
UID:b8ce46dc-d644-42f9-8c3b-40ea844d7b0c
CREATED:20260420T145255Z
DESCRIPTION:5:30pm doors\; Jeff Lederer\, Mary LaRose\, Michel Gentile\, K
 atie Scheele\, Mike McGinnis\, Sara Schoenbeck\, Eric Davis\; music by Orn
 ette Coleman\, Oliver Nelson\, Eric Dolphy
LOCATION:owl (497 rogers ave\, brooklyn)
END:VEVENT
END:VCALENDAR
