BEGIN:VCALENDAR
BEGIN:VEVENT
SUMMARY:Wilder Maker Record Release\, Night #1/2 [nycnoise]
DTSTART:20251030T000000Z
DTEND:20251030T010000Z
UID:f84bfe48-fde7-40c6-a7e5-9190e5aea6a1
CREATED:20260420T145207Z
DESCRIPTION:7:30pm doors
LOCATION:owl (497 rogers ave\, brooklyn)
END:VEVENT
END:VCALENDAR
