BEGIN:VCALENDAR
BEGIN:VEVENT
SUMMARY:Chase Elodia\, Lambskiss Debut [nycnoise]
DTSTART:20251114T010000Z
DTEND:20251114T020000Z
UID:ab089806-2668-48eb-8aee-a4181c71e5b1
CREATED:20260425T203806Z
DESCRIPTION:7:30pm doors\; LD: L&eacute\;na Bartels\, Logan Chung\, Shaugh
 na &ldquo\;Trash Girl&rdquo\; Jones
LOCATION:owl (497 rogers ave\, brooklyn)
END:VEVENT
END:VCALENDAR
