BEGIN:VCALENDAR
BEGIN:VEVENT
SUMMARY:Rose Stoller & The Rhythm Method [nycnoise]
DTSTART:20251117T010000Z
DTEND:20251117T020000Z
UID:0e4de33f-e678-4b5b-a067-d912552b424f
CREATED:20260425T203633Z
DESCRIPTION:7:30pm doors
LOCATION:owl (497 rogers ave\, brooklyn)
END:VEVENT
END:VCALENDAR
