BEGIN:VCALENDAR
BEGIN:VEVENT
SUMMARY:Stereo Mandrax Presents: Ryan Sawyer / Steve Gunn / Eileen Myles\,
  History Dog (Shara Lunon\, Chris Williams\, Luke Stewart\, Lesley Mok)\, 
 Wendy Eisenberg [nycnoise]
DTSTART:20251012T230000Z
DTEND:20251013T000000Z
UID:42d478eb-2e7a-4d52-a45e-548d4f86f180
CREATED:20260420T145207Z
DESCRIPTION:
LOCATION:pianos (158 Ludlow St\, New York\, NY 10002)
END:VEVENT
END:VCALENDAR
