BEGIN:VCALENDAR
BEGIN:VEVENT
SUMMARY:Music for Two Pianos: Rahul Carlberg & Maya Keren play the music o
 f Henry Threadgill [nycnoise]
DTSTART:20251122T010000Z
DTEND:20251122T020000Z
UID:c10beb91-7fdf-44c8-9721-2d1ccf6988fa
CREATED:20260425T204000Z
DESCRIPTION:7pm doors
LOCATION:roulette (509 atlantic ave\, brooklyn)
END:VEVENT
END:VCALENDAR
