BEGIN:VCALENDAR
BEGIN:VEVENT
SUMMARY:Patricia Brennan (Record Release) [nycnoise]
DTSTART:20251202T010000Z
DTEND:20251202T020000Z
UID:c5b93119-3722-4049-8f4f-7776e4912d1c
CREATED:20260425T184135Z
DESCRIPTION:7pm/$30 doors
LOCATION:roulette (509 atlantic ave\, brooklyn)
END:VEVENT
END:VCALENDAR
