BEGIN:VCALENDAR
BEGIN:VEVENT
SUMMARY:Interpretations: Sam Weinberg Trio (w/ Henry Fraser\, Jason Nazary
 )\, Ghost Ensemble [nycnoise]
DTSTART:20251205T010000Z
DTEND:20251205T020000Z
UID:8ec2d4f4-3d1d-4cc1-9a3f-38e936b0670e
CREATED:20260425T184133Z
DESCRIPTION:7pm doors
LOCATION:roulette (509 atlantic ave\, brooklyn)
END:VEVENT
END:VCALENDAR
