BEGIN:VCALENDAR
BEGIN:VEVENT
SUMMARY:Hamid Al-Saadi & Amir ElSaffar New Quartet (w/ Tomas Fujiwara\, Ol
 e Mathisen\, ft. Tania Giannouli) [nycnoise]
DTSTART:20251207T010000Z
DTEND:20251207T020000Z
UID:3fdd70e0-a4f7-433b-879b-975063382a01
CREATED:20260425T183830Z
DESCRIPTION:7pm/$30 doors
LOCATION:roulette (509 atlantic ave\, brooklyn)
END:VEVENT
END:VCALENDAR
