BEGIN:VCALENDAR
BEGIN:VEVENT
SUMMARY:Sylvie Courvoisier Duos (w/ Mary Halvorson\, Wadada Leo Smith) [ny
 cnoise]
DTSTART:20251208T010000Z
DTEND:20251208T020000Z
UID:8fced377-8cc6-41ef-8e9d-99df7e3b03b4
CREATED:20260425T183803Z
DESCRIPTION:7pm/$30 doors
LOCATION:roulette (509 atlantic ave\, brooklyn)
END:VEVENT
END:VCALENDAR
