BEGIN:VCALENDAR
BEGIN:VEVENT
SUMMARY:Elliott Sharp: 'Feedback' Book Launch & Duets with James Brandon L
 ewis [nycnoise]
DTSTART:20251211T010000Z
DTEND:20251211T020000Z
UID:f0ade35d-f772-40b9-afd0-b34c4a7e6fec
CREATED:20260425T184105Z
DESCRIPTION:7pm/$30 doors\, LIVESTREAM +++ new book by e#\, who's been mak
 ing wicked sounds &amp\; criticizing israel for decades (idk if *this* boo
 k does the latter\, tho his irrational music did\, just mentioning cuz it'
 s legit af)
LOCATION:roulette (509 atlantic ave\, brooklyn)
END:VEVENT
END:VCALENDAR
