BEGIN:VCALENDAR
BEGIN:VEVENT
SUMMARY:Adam Rudolph’s Hu Vibrational [nycnoise]
DTSTART:20251213T010000Z
DTEND:20251213T020000Z
UID:f9e5270a-d5a9-4425-a7e7-7a4590aa5c35
CREATED:20260425T183831Z
DESCRIPTION:7pm/$30 doors\, livestream
LOCATION:roulette (509 atlantic ave\, brooklyn)
END:VEVENT
END:VCALENDAR
