BEGIN:VCALENDAR
BEGIN:VEVENT
SUMMARY:Webber/Morris Big Band [nycnoise]
DTSTART:20251219T010000Z
DTEND:20251219T020000Z
UID:02bc71b8-735a-477d-b53d-adc8fbe8d7d9
CREATED:20260425T184112Z
DESCRIPTION:7pm/$30 doors\; livestream
LOCATION:roulette (509 atlantic ave\, brooklyn)
END:VEVENT
END:VCALENDAR
