BEGIN:VCALENDAR
BEGIN:VEVENT
SUMMARY:Music for Two Pianos: Bob + Blue: Sarah Cahill & Joseph Kubera pla
 y the music of Robert Ashley & “Blue” Gene Tyranny [nycnoise]
DTSTART:20251121T010000Z
DTEND:20251121T020000Z
UID:08f979d3-9ebd-4f7d-9e7a-17d9227185bd
CREATED:20260425T203804Z
DESCRIPTION:7pm/$30 doors
LOCATION:roulette (509 atlantic ave\, brooklyn)
END:VEVENT
END:VCALENDAR
