BEGIN:VCALENDAR
BEGIN:VEVENT
SUMMARY:Saint Vitus presents: Ulcerate\, Spirit Posession\, Pyrrhon [nycno
 ise]
DTSTART:20251112T000000Z
DTEND:20251112T010000Z
UID:91ac959c-3b97-418d-bb9e-b64ad63f79f7
CREATED:20260425T203931Z
DESCRIPTION:
LOCATION:meadows (17 meadow st.\, brooklyn)
END:VEVENT
END:VCALENDAR
