BEGIN:VCALENDAR
BEGIN:VEVENT
SUMMARY:Travis Reuter Group\, Night #2/2 [nycnoise]
DTSTART:20251011T000000Z
DTEND:20251011T010000Z
UID:55569b99-611f-4ace-b046-19cc9180498c
CREATED:20260420T145317Z
DESCRIPTION:w/ Mark Shim\, Adam O'Farrill\, Anna Webber\, Stuart Breczensk
 i\, Peter Schlamb\, Chris Tordini\, Rajna Swaminathan\, Tyshawn Sorey
LOCATION:scholes st. studio (375 lorimer st.\, brooklyn)
END:VEVENT
END:VCALENDAR
