BEGIN:VCALENDAR
BEGIN:VEVENT
SUMMARY:Gabe Boyarin / Joe Morris / Noah Mark / Nick Neuberg [nycnoise]
DTSTART:20251023T000000Z
DTEND:20251023T010000Z
UID:ed908ad6-857a-4cde-abe4-6a8366f73e45
CREATED:20260420T145459Z
DESCRIPTION:
LOCATION:scholes st. studio (375 lorimer st.\, brooklyn)
END:VEVENT
END:VCALENDAR
