BEGIN:VCALENDAR
BEGIN:VEVENT
SUMMARY:String Cartographies (Madeline Hocking\, Hannah Selin\, Clara Cho\
 , Daniel Reyes Llinás) [nycnoise]
DTSTART:20251107T003000Z
DTEND:20251107T013000Z
UID:39c39636-ad8e-4dc9-9641-c99274b31220
CREATED:20260425T203930Z
DESCRIPTION:
LOCATION:scholes st. studio (375 lorimer st.\, brooklyn)
END:VEVENT
END:VCALENDAR
