BEGIN:VCALENDAR
BEGIN:VEVENT
SUMMARY:Sophie Dunér & Ken Filiano [nycnoise]
DTSTART:20251004T230000Z
DTEND:20251005T000000Z
UID:99dc31bd-c604-474f-8a62-d111768e08d3
CREATED:20260420T145603Z
DESCRIPTION:
LOCATION:silvana (300 w. 116th st.\, manhattan)
END:VEVENT
END:VCALENDAR
