BEGIN:VCALENDAR
BEGIN:VEVENT
SUMMARY:Wormfest 3: Wormy\, Hank Heaven\, Horsepower\, Teenage Halloween [
 nycnoise]
DTSTART:20251012T203000Z
DTEND:20251012T213000Z
UID:ad1fe6dd-0c56-4590-b2d0-df88cc668565
CREATED:20260420T145544Z
DESCRIPTION:
LOCATION:sultan room (234 starr st.\, brooklyn)
END:VEVENT
END:VCALENDAR
