BEGIN:VCALENDAR
BEGIN:VEVENT
SUMMARY:Saul Williams meets Carlos Niño & Friends [nycnoise]
DTSTART:20251019T220000Z
DTEND:20251019T230000Z
UID:77e8f783-6a12-44af-859c-49dd65ccd174
CREATED:20260420T145350Z
DESCRIPTION:6pm tix\, 9:30pm tix
LOCATION:sultan room (234 starr st.\, brooklyn)
END:VEVENT
END:VCALENDAR
