BEGIN:VCALENDAR
BEGIN:VEVENT
SUMMARY:ShoutHouse\, Gladstone Deluxe x Mobéy Lola Irizarry\, Daniel K / 
 Alex G / Julia A [nycnoise]
DTSTART:20251022T230000Z
DTEND:20251023T000000Z
UID:3ee68058-8695-40db-a170-7cda24e916e4
CREATED:20260420T145425Z
DESCRIPTION:
LOCATION:sultan room (234 starr st.\, brooklyn)
END:VEVENT
END:VCALENDAR
