BEGIN:VCALENDAR
BEGIN:VEVENT
SUMMARY:Too Pissy: Benjamin Scott\, Sam Grossinger\, Horacio Alcolea Cresp
 o [nycnoise]
DTSTART:20251001T230000Z
DTEND:20251002T000000Z
UID:b6e43756-5647-42be-a2a1-f65946be2769
CREATED:20260420T145553Z
DESCRIPTION:
LOCATION:triest (526 wilson ave\, brooklyn)
END:VEVENT
END:VCALENDAR
