BEGIN:VCALENDAR
BEGIN:VEVENT
SUMMARY:SHA Creative Outlet: '...all knowing 瞭然' (ft. Quijiang Levi Lu
 )\, Night #2/3 [nycnoise]
DTSTART:20251108T010000Z
DTEND:20251108T020000Z
UID:d19d0ffd-fd0b-47ea-9d82-5d2c0d43e357
CREATED:20260425T203932Z
DESCRIPTION:
LOCATION:triskelion (106 calyer st.\, brooklyn)
END:VEVENT
END:VCALENDAR
