BEGIN:VCALENDAR
BEGIN:VEVENT
SUMMARY:Cleo Reed: 'cuntry: wip' [nycnoise]
DTSTART:20251115T010000Z
DTEND:20251115T020000Z
UID:ab8d47cc-5eca-426a-8aed-035b026d3ab3
CREATED:20260425T203701Z
DESCRIPTION:
LOCATION:triskelion (106 calyer st.\, brooklyn)
END:VEVENT
END:VCALENDAR
