BEGIN:VCALENDAR
BEGIN:VEVENT
SUMMARY:Todd Capp’s Cadavre Exquis (w/ Watson Jennison\, Brian Price\, S
 hanir Blumenkranz) [nycnoise]
DTSTART:20251008T003000Z
DTEND:20251008T013000Z
UID:a7732c63-a753-4f86-bf90-651255a2a18e
CREATED:20260420T145324Z
DESCRIPTION:
LOCATION:zürcher gallery (33 bleecker st.\, manhattan)
END:VEVENT
END:VCALENDAR
