BEGIN:VCALENDAR
BEGIN:VEVENT
SUMMARY:Jeff Tobias (Record Release)\, Ashcan Orchestra\, Purse [nycnoise]
DTSTART:20251019T230000Z
DTEND:20251020T000000Z
UID:f2dbcd00-104e-4d40-9ec8-ab803f6a99e0
CREATED:20260420T145136Z
DESCRIPTION:
LOCATION:union pool (484 union ave\, brooklyn)
END:VEVENT
END:VCALENDAR
